Package: tximportData Version: 1.37.5 Command: /home/biocbuild/bbs-3.22-bioc/R/bin/R CMD build --keep-empty-dirs --no-resave-data tximportData StartedAt: 2025-10-09 11:47:47 -0400 (Thu, 09 Oct 2025) EndedAt: 2025-10-09 11:50:14 -0400 (Thu, 09 Oct 2025) EllapsedTime: 146.8 seconds RetCode: 0 Status: OK PackageFile: tximportData_1.37.5.tar.gz PackageFileSize: 385.8 MiB