Package: tuberculosis Version: 1.15.1 Maintainer: Lucas Schiffer MaintainerEmail: schiffer.lucas at gmail.com git_url: https://git.bioconductor.org/packages/tuberculosis git_branch: devel git_last_commit: a6d57f6 git_last_commit_date: 2025-10-07 13:11:37 -0400 (Tue, 07 Oct 2025)