Package: tissueTreg Version: 1.29.0 Command: /home/biocbuild/bbs-3.22-bioc/R/bin/R CMD check --install=check:tissueTreg.install-out.txt --library=/home/biocbuild/bbs-3.22-bioc/R/site-library --timings tissueTreg_1.29.0.tar.gz StartedAt: 2025-10-28 13:14:21 -0400 (Tue, 28 Oct 2025) EndedAt: 2025-10-28 13:17:46 -0400 (Tue, 28 Oct 2025) EllapsedTime: 205.1 seconds RetCode: 0 Status: OK CheckDir: tissueTreg.Rcheck Warnings: 0