Package: tinesath1probe Version: 1.47.0 Command: /home/biocbuild/bbs-3.22-bioc/R/bin/R CMD check --install=check:tinesath1probe.install-out.txt --library=/home/biocbuild/bbs-3.22-bioc/R/site-library --timings tinesath1probe_1.47.0.tar.gz StartedAt: 2025-10-09 13:16:36 -0400 (Thu, 09 Oct 2025) EndedAt: 2025-10-09 13:17:27 -0400 (Thu, 09 Oct 2025) EllapsedTime: 50.6 seconds RetCode: 0 Status: WARNINGS CheckDir: tinesath1probe.Rcheck Warnings: 1