Package: timecoursedata Version: 1.19.0 Command: /home/biocbuild/bbs-3.22-bioc/R/bin/R CMD check --install=check:timecoursedata.install-out.txt --library=/home/biocbuild/bbs-3.22-bioc/R/site-library --timings timecoursedata_1.19.0.tar.gz StartedAt: 2025-10-09 13:15:57 -0400 (Thu, 09 Oct 2025) EndedAt: 2025-10-09 13:18:54 -0400 (Thu, 09 Oct 2025) EllapsedTime: 177.1 seconds RetCode: 0 Status: OK CheckDir: timecoursedata.Rcheck Warnings: 0