Package: smokingMouse Version: 1.7.0 Command: /home/biocbuild/bbs-3.22-bioc/R/bin/R CMD check --install=check:smokingMouse.install-out.txt --library=/home/biocbuild/bbs-3.22-bioc/R/site-library --timings smokingMouse_1.7.0.tar.gz StartedAt: 2025-10-23 13:04:24 -0400 (Thu, 23 Oct 2025) EndedAt: 2025-10-23 13:05:12 -0400 (Thu, 23 Oct 2025) EllapsedTime: 47.6 seconds RetCode: 0 Status: OK CheckDir: smokingMouse.Rcheck Warnings: 0