Package: rRDPData Version: 1.29.1 Maintainer: Michael Hahsler MaintainerEmail: mhahsler at lyle.smu.edu git_url: https://git.bioconductor.org/packages/rRDPData git_branch: devel git_last_commit: 8985014 git_last_commit_date: 2025-10-08 08:10:50 -0400 (Wed, 08 Oct 2025)