Package: prebsdata Version: 1.45.0 Command: /home/biocbuild/bbs-3.22-bioc/R/bin/R CMD check --install=check:prebsdata.install-out.txt --library=/home/biocbuild/bbs-3.22-bioc/R/site-library --timings prebsdata_1.45.0.tar.gz StartedAt: 2025-10-16 12:50:41 -0400 (Thu, 16 Oct 2025) EndedAt: 2025-10-16 12:50:55 -0400 (Thu, 16 Oct 2025) EllapsedTime: 14.3 seconds RetCode: 0 Status: OK CheckDir: prebsdata.Rcheck Warnings: 0