Package: orthosData Version: 1.7.0 Command: /home/biocbuild/bbs-3.22-bioc/R/bin/R CMD check --install=check:orthosData.install-out.txt --library=/home/biocbuild/bbs-3.22-bioc/R/site-library --timings orthosData_1.7.0.tar.gz StartedAt: 2025-10-09 12:52:09 -0400 (Thu, 09 Oct 2025) EndedAt: 2025-10-09 13:00:04 -0400 (Thu, 09 Oct 2025) EllapsedTime: 474.3 seconds RetCode: 0 Status: OK CheckDir: orthosData.Rcheck Warnings: 0