Package: nmrdata Version: 0.99.2 Command: /home/biocbuild/bbs-3.22-bioc/R/bin/R CMD check --install=check:nmrdata.install-out.txt --library=/home/biocbuild/bbs-3.22-bioc/R/site-library --timings nmrdata_0.99.2.tar.gz StartedAt: 2025-10-16 12:48:05 -0400 (Thu, 16 Oct 2025) EndedAt: 2025-10-16 12:48:41 -0400 (Thu, 16 Oct 2025) EllapsedTime: 35.9 seconds RetCode: 0 Status: OK CheckDir: nmrdata.Rcheck Warnings: 0