Package: nmrdata Version: 0.99.2 Maintainer: Torben Kimhofer MaintainerEmail: tkimhofer at gmail.com git_url: https://git.bioconductor.org/packages/nmrdata git_branch: devel git_last_commit: b1f6209 git_last_commit_date: 2025-10-10 04:19:43 -0400 (Fri, 10 Oct 2025)