Package: muSpaData Version: 1.1.0 Command: /home/biocbuild/bbs-3.22-bioc/R/bin/R CMD check --install=check:muSpaData.install-out.txt --library=/home/biocbuild/bbs-3.22-bioc/R/site-library --timings muSpaData_1.1.0.tar.gz StartedAt: 2025-10-14 12:45:35 -0400 (Tue, 14 Oct 2025) EndedAt: 2025-10-14 12:48:52 -0400 (Tue, 14 Oct 2025) EllapsedTime: 197.0 seconds RetCode: 0 Status: OK CheckDir: muSpaData.Rcheck Warnings: 0