Package: mouse4302barcodevecs Version: 1.47.0 Command: /home/biocbuild/bbs-3.22-bioc/R/bin/R CMD check --install=check:mouse4302barcodevecs.install-out.txt --library=/home/biocbuild/bbs-3.22-bioc/R/site-library --timings mouse4302barcodevecs_1.47.0.tar.gz StartedAt: 2025-10-16 12:43:57 -0400 (Thu, 16 Oct 2025) EndedAt: 2025-10-16 12:44:08 -0400 (Thu, 16 Oct 2025) EllapsedTime: 10.6 seconds RetCode: 0 Status: OK CheckDir: mouse4302barcodevecs.Rcheck Warnings: 0