Package: microRNAome Version: 1.31.0 Command: /home/biocbuild/bbs-3.22-bioc/R/bin/R CMD check --install=check:microRNAome.install-out.txt --library=/home/biocbuild/bbs-3.22-bioc/R/site-library --timings microRNAome_1.31.0.tar.gz StartedAt: 2025-10-23 12:40:49 -0400 (Thu, 23 Oct 2025) EndedAt: 2025-10-23 12:42:30 -0400 (Thu, 23 Oct 2025) EllapsedTime: 100.6 seconds RetCode: 0 Status: WARNINGS CheckDir: microRNAome.Rcheck Warnings: 2