Package: miRNATarget Version: 1.48.0 Maintainer: Y-h. Taguchi MaintainerEmail: tag at granular.com git_url: https://git.bioconductor.org/packages/miRNATarget git_branch: RELEASE_3_22 git_last_commit: 564aeb3 git_last_commit_date: 2025-10-29 09:33:12 -0400 (Wed, 29 Oct 2025)