Package: marinerData Version: 1.9.0 Command: /home/biocbuild/bbs-3.22-bioc/R/bin/R CMD check --install=check:marinerData.install-out.txt --library=/home/biocbuild/bbs-3.22-bioc/R/site-library --timings marinerData_1.9.0.tar.gz StartedAt: 2025-10-28 12:38:04 -0400 (Tue, 28 Oct 2025) EndedAt: 2025-10-28 12:49:27 -0400 (Tue, 28 Oct 2025) EllapsedTime: 682.9 seconds RetCode: 0 Status: OK CheckDir: marinerData.Rcheck Warnings: 0