Package: marinerData Version: 1.10.0 Maintainer: Eric Davis MaintainerEmail: ericscottdavis at outlook.com git_url: https://git.bioconductor.org/packages/marinerData git_branch: RELEASE_3_22 git_last_commit: 7c5a67a git_last_commit_date: 2025-10-29 10:05:32 -0400 (Wed, 29 Oct 2025)