Package: leukemiasEset Version: 1.46.0 Maintainer: Sara Aibar MaintainerEmail: saibar at usal.es git_url: https://git.bioconductor.org/packages/leukemiasEset git_branch: RELEASE_3_22 git_last_commit: 68a2d04 git_last_commit_date: 2025-10-29 09:53:17 -0400 (Wed, 29 Oct 2025)