Package: iModMixData Version: 0.99.6 Command: /home/biocbuild/bbs-3.22-bioc/R/bin/R CMD build --keep-empty-dirs --no-resave-data iModMixData StartedAt: 2025-10-07 11:24:10 -0400 (Tue, 07 Oct 2025) EndedAt: 2025-10-07 11:24:55 -0400 (Tue, 07 Oct 2025) EllapsedTime: 44.3 seconds RetCode: 0 Status: OK PackageFile: iModMixData_0.99.6.tar.gz PackageFileSize: 11.38 KiB