Package: healthyControlsPresenceChecker Version: 1.13.0 Command: /home/biocbuild/bbs-3.22-bioc/R/bin/R CMD INSTALL healthyControlsPresenceChecker StartedAt: 2025-10-21 11:02:27 -0400 (Tue, 21 Oct 2025) EndedAt: 2025-10-21 11:02:49 -0400 (Tue, 21 Oct 2025) EllapsedTime: 22.3 seconds RetCode: 0 Status: OK