Package: healthyControlsPresenceChecker Version: 1.13.0 Command: /home/biocbuild/bbs-3.22-bioc/R/bin/R CMD build --keep-empty-dirs --no-resave-data healthyControlsPresenceChecker StartedAt: 2025-10-21 11:22:53 -0400 (Tue, 21 Oct 2025) EndedAt: 2025-10-21 11:23:32 -0400 (Tue, 21 Oct 2025) EllapsedTime: 38.6 seconds RetCode: 0 Status: OK PackageFile: healthyControlsPresenceChecker_1.13.0.tar.gz PackageFileSize: 220 KiB