Package: h5vcData Version: 2.29.0 Command: /home/biocbuild/bbs-3.22-bioc/R/bin/R CMD check --install=check:h5vcData.install-out.txt --library=/home/biocbuild/bbs-3.22-bioc/R/site-library --timings h5vcData_2.29.0.tar.gz StartedAt: 2025-10-09 12:28:51 -0400 (Thu, 09 Oct 2025) EndedAt: 2025-10-09 12:29:04 -0400 (Thu, 09 Oct 2025) EllapsedTime: 13.3 seconds RetCode: 0 Status: OK CheckDir: h5vcData.Rcheck Warnings: 0