Package: golubEsets Version: 1.52.0 Maintainer: Vince Carey MaintainerEmail: stvjc at channing.harvard.edu git_url: https://git.bioconductor.org/packages/golubEsets git_branch: RELEASE_3_22 git_last_commit: d64fb88 git_last_commit_date: 2025-10-29 09:30:10 -0400 (Wed, 29 Oct 2025)