Package: genomationData Version: 1.41.0 Command: /home/biocbuild/bbs-3.22-bioc/R/bin/R CMD check --install=check:genomationData.install-out.txt --library=/home/biocbuild/bbs-3.22-bioc/R/site-library --timings genomationData_1.41.0.tar.gz StartedAt: 2025-10-09 12:26:51 -0400 (Thu, 09 Oct 2025) EndedAt: 2025-10-09 12:27:05 -0400 (Thu, 09 Oct 2025) EllapsedTime: 13.6 seconds RetCode: 0 Status: OK CheckDir: genomationData.Rcheck Warnings: 0