Package: gaschYHS Version: 1.47.0 Command: /home/biocbuild/bbs-3.22-bioc/R/bin/R CMD check --install=check:gaschYHS.install-out.txt --library=/home/biocbuild/bbs-3.22-bioc/R/site-library --timings gaschYHS_1.47.0.tar.gz StartedAt: 2025-10-23 12:24:56 -0400 (Thu, 23 Oct 2025) EndedAt: 2025-10-23 12:25:11 -0400 (Thu, 23 Oct 2025) EllapsedTime: 15.0 seconds RetCode: 0 Status: OK CheckDir: gaschYHS.Rcheck Warnings: 0