Package: faahKO Version: 1.50.0 Maintainer: Steffen Neumann MaintainerEmail: sneumann at ipb-halle.de git_url: https://git.bioconductor.org/packages/faahKO git_branch: RELEASE_3_22 git_last_commit: e20d46a git_last_commit_date: 2025-10-29 09:23:33 -0400 (Wed, 29 Oct 2025)