Package: etec16s Version: 1.38.0 Maintainer: Joseph N. Paulson MaintainerEmail: jpaulson at jimmy.harvard.edu git_url: https://git.bioconductor.org/packages/etec16s git_branch: RELEASE_3_22 git_last_commit: 1a8b9a8 git_last_commit_date: 2025-10-29 09:58:20 -0400 (Wed, 29 Oct 2025)