Package: ecoliLeucine Version: 1.49.0 Command: /home/biocbuild/bbs-3.22-bioc/R/bin/R CMD check --install=check:ecoliLeucine.install-out.txt --library=/home/biocbuild/bbs-3.22-bioc/R/site-library --timings ecoliLeucine_1.49.0.tar.gz StartedAt: 2025-10-21 12:19:34 -0400 (Tue, 21 Oct 2025) EndedAt: 2025-10-21 12:20:33 -0400 (Tue, 21 Oct 2025) EllapsedTime: 59.0 seconds RetCode: 0 Status: WARNINGS CheckDir: ecoliLeucine.Rcheck Warnings: 1