Package: dyebiasexamples Version: 1.49.0 Command: /home/biocbuild/bbs-3.22-bioc/R/bin/R CMD check --install=check:dyebiasexamples.install-out.txt --library=/home/biocbuild/bbs-3.22-bioc/R/site-library --timings dyebiasexamples_1.49.0.tar.gz StartedAt: 2025-10-16 12:17:29 -0400 (Thu, 16 Oct 2025) EndedAt: 2025-10-16 12:19:21 -0400 (Thu, 16 Oct 2025) EllapsedTime: 111.9 seconds RetCode: 0 Status: WARNINGS CheckDir: dyebiasexamples.Rcheck Warnings: 5