Package: dorothea Version: 1.21.0 Command: /home/biocbuild/bbs-3.22-bioc/R/bin/R CMD check --install=check:dorothea.install-out.txt --library=/home/biocbuild/bbs-3.22-bioc/R/site-library --timings dorothea_1.21.0.tar.gz StartedAt: 2025-10-21 12:17:04 -0400 (Tue, 21 Oct 2025) EndedAt: 2025-10-21 12:20:07 -0400 (Tue, 21 Oct 2025) EllapsedTime: 183.7 seconds RetCode: 1 Status: ERROR CheckDir: dorothea.Rcheck Warnings: NA