Package: diggitdata Version: 1.41.0 Command: /home/biocbuild/bbs-3.22-bioc/R/bin/R CMD INSTALL diggitdata StartedAt: 2025-10-16 10:57:49 -0400 (Thu, 16 Oct 2025) EndedAt: 2025-10-16 10:57:56 -0400 (Thu, 16 Oct 2025) EllapsedTime: 7.0 seconds RetCode: 0 Status: OK