Package: diggitdata Version: 1.41.0 Command: /home/biocbuild/bbs-3.22-bioc/R/bin/R CMD build --keep-empty-dirs --no-resave-data diggitdata StartedAt: 2025-10-16 11:14:23 -0400 (Thu, 16 Oct 2025) EndedAt: 2025-10-16 11:14:41 -0400 (Thu, 16 Oct 2025) EllapsedTime: 18.1 seconds RetCode: 0 Status: OK PackageFile: diggitdata_1.41.0.tar.gz PackageFileSize: 47.39 MiB