Package: curatedTBData Version: 2.5.0 Command: /home/biocbuild/bbs-3.22-bioc/R/bin/R CMD check --install=check:curatedTBData.install-out.txt --library=/home/biocbuild/bbs-3.22-bioc/R/site-library --timings curatedTBData_2.5.0.tar.gz StartedAt: 2025-10-02 12:11:32 -0400 (Thu, 02 Oct 2025) EndedAt: 2025-10-02 12:18:02 -0400 (Thu, 02 Oct 2025) EllapsedTime: 390.2 seconds RetCode: 0 Status: WARNINGS CheckDir: curatedTBData.Rcheck Warnings: 2