Package: curatedAdipoRNA Version: 1.25.0 Command: /home/biocbuild/bbs-3.22-bioc/R/bin/R CMD check --install=check:curatedAdipoRNA.install-out.txt --library=/home/biocbuild/bbs-3.22-bioc/R/site-library --timings curatedAdipoRNA_1.25.0.tar.gz StartedAt: 2025-10-09 12:10:40 -0400 (Thu, 09 Oct 2025) EndedAt: 2025-10-09 12:13:02 -0400 (Thu, 09 Oct 2025) EllapsedTime: 141.8 seconds RetCode: 0 Status: WARNINGS CheckDir: curatedAdipoRNA.Rcheck Warnings: 1