Package: curatedAdipoChIP Version: 1.25.0 Command: /home/biocbuild/bbs-3.22-bioc/R/bin/R CMD INSTALL curatedAdipoChIP StartedAt: 2025-10-16 11:01:41 -0400 (Thu, 16 Oct 2025) EndedAt: 2025-10-16 11:02:10 -0400 (Thu, 16 Oct 2025) EllapsedTime: 29.0 seconds RetCode: 0 Status: OK