Package: curatedAdipoChIP Version: 1.25.0 Command: /home/biocbuild/bbs-3.22-bioc/R/bin/R CMD build --keep-empty-dirs --no-resave-data curatedAdipoChIP StartedAt: 2025-10-16 11:10:54 -0400 (Thu, 16 Oct 2025) EndedAt: 2025-10-16 11:12:44 -0400 (Thu, 16 Oct 2025) EllapsedTime: 110.1 seconds RetCode: 0 Status: OK PackageFile: curatedAdipoChIP_1.25.0.tar.gz PackageFileSize: 140.9 KiB