Package: crisprScoreData Version: 1.13.0 Command: /home/biocbuild/bbs-3.22-bioc/R/bin/R CMD INSTALL crisprScoreData StartedAt: 2025-10-16 10:57:40 -0400 (Thu, 16 Oct 2025) EndedAt: 2025-10-16 10:57:54 -0400 (Thu, 16 Oct 2025) EllapsedTime: 13.4 seconds RetCode: 0 Status: OK