Package: crisprScoreData Version: 1.13.0 Command: /home/biocbuild/bbs-3.22-bioc/R/bin/R CMD check --install=check:crisprScoreData.install-out.txt --library=/home/biocbuild/bbs-3.22-bioc/R/site-library --timings crisprScoreData_1.13.0.tar.gz StartedAt: 2025-10-16 12:09:38 -0400 (Thu, 16 Oct 2025) EndedAt: 2025-10-16 12:11:34 -0400 (Thu, 16 Oct 2025) EllapsedTime: 115.6 seconds RetCode: 0 Status: OK CheckDir: crisprScoreData.Rcheck Warnings: 0