Package: ccdata Version: 1.35.0 Command: /home/biocbuild/bbs-3.22-bioc/R/bin/R CMD check --install=check:ccdata.install-out.txt --library=/home/biocbuild/bbs-3.22-bioc/R/site-library --timings ccdata_1.35.0.tar.gz StartedAt: 2025-10-14 12:04:49 -0400 (Tue, 14 Oct 2025) EndedAt: 2025-10-14 12:08:21 -0400 (Tue, 14 Oct 2025) EllapsedTime: 212.3 seconds RetCode: 0 Status: WARNINGS CheckDir: ccdata.Rcheck Warnings: 1