Package: cancerdata Version: 1.47.0 Command: /home/biocbuild/bbs-3.22-bioc/R/bin/R CMD INSTALL cancerdata StartedAt: 2025-10-07 10:55:59 -0400 (Tue, 07 Oct 2025) EndedAt: 2025-10-07 10:56:02 -0400 (Tue, 07 Oct 2025) EllapsedTime: 3.5 seconds RetCode: 0 Status: OK