Package: bsseqData Version: 0.47.0 Command: /home/biocbuild/bbs-3.22-bioc/R/bin/R CMD check --install=check:bsseqData.install-out.txt --library=/home/biocbuild/bbs-3.22-bioc/R/site-library --timings bsseqData_0.47.0.tar.gz StartedAt: 2025-10-21 12:04:47 -0400 (Tue, 21 Oct 2025) EndedAt: 2025-10-21 12:07:21 -0400 (Tue, 21 Oct 2025) EllapsedTime: 153.9 seconds RetCode: 0 Status: WARNINGS CheckDir: bsseqData.Rcheck Warnings: 1