Package: bronchialIL13 Version: 1.47.0 Command: /home/biocbuild/bbs-3.22-bioc/R/bin/R CMD INSTALL bronchialIL13 StartedAt: 2025-10-16 10:56:11 -0400 (Thu, 16 Oct 2025) EndedAt: 2025-10-16 10:56:15 -0400 (Thu, 16 Oct 2025) EllapsedTime: 4.2 seconds RetCode: 0 Status: OK