Package: bronchialIL13 Version: 1.47.0 Command: /home/biocbuild/bbs-3.22-bioc/R/bin/R CMD build --keep-empty-dirs --no-resave-data bronchialIL13 StartedAt: 2025-10-16 11:07:41 -0400 (Thu, 16 Oct 2025) EndedAt: 2025-10-16 11:07:47 -0400 (Thu, 16 Oct 2025) EllapsedTime: 6.9 seconds RetCode: 0 Status: OK PackageFile: bronchialIL13_1.47.0.tar.gz PackageFileSize: 69.13 MiB