Package: brgedata Version: 1.32.0 Maintainer: Dolors Pelegri-Siso MaintainerEmail: dolors.pelegri at isglobal.org git_url: https://git.bioconductor.org/packages/brgedata git_branch: RELEASE_3_22 git_last_commit: bbf0386 git_last_commit_date: 2025-10-29 10:04:06 -0400 (Wed, 29 Oct 2025)