Package: breastCancerUPP Version: 1.48.0 Maintainer: Markus Schroeder , Benjamin Haibe-Kains MaintainerEmail: bhaibeka at jimmy.harvard.edu git_url: https://git.bioconductor.org/packages/breastCancerUPP git_branch: RELEASE_3_22 git_last_commit: cc4bc3b git_last_commit_date: 2025-10-29 09:32:19 -0400 (Wed, 29 Oct 2025)