Package: breastCancerUNT Version: 1.47.0 Command: /home/biocbuild/bbs-3.22-bioc/R/bin/R CMD INSTALL breastCancerUNT StartedAt: 2025-10-16 10:55:42 -0400 (Thu, 16 Oct 2025) EndedAt: 2025-10-16 10:55:45 -0400 (Thu, 16 Oct 2025) EllapsedTime: 2.4 seconds RetCode: 0 Status: OK