Package: breastCancerTRANSBIG Version: 1.47.0 Command: /home/biocbuild/bbs-3.22-bioc/R/bin/R CMD INSTALL breastCancerTRANSBIG StartedAt: 2025-10-09 10:55:16 -0400 (Thu, 09 Oct 2025) EndedAt: 2025-10-09 10:55:19 -0400 (Thu, 09 Oct 2025) EllapsedTime: 2.5 seconds RetCode: 0 Status: OK