Package: breastCancerTRANSBIG Version: 1.47.0 Command: /home/biocbuild/bbs-3.22-bioc/R/bin/R CMD build --keep-empty-dirs --no-resave-data breastCancerTRANSBIG StartedAt: 2025-10-09 11:07:37 -0400 (Thu, 09 Oct 2025) EndedAt: 2025-10-09 11:07:41 -0400 (Thu, 09 Oct 2025) EllapsedTime: 3.7 seconds RetCode: 0 Status: OK PackageFile: breastCancerTRANSBIG_1.47.0.tar.gz PackageFileSize: 34.48 MiB