Package: breastCancerMAINZ Version: 1.47.0 Command: /home/biocbuild/bbs-3.22-bioc/R/bin/R CMD build --keep-empty-dirs --no-resave-data breastCancerMAINZ StartedAt: 2025-10-02 11:07:19 -0400 (Thu, 02 Oct 2025) EndedAt: 2025-10-02 11:07:22 -0400 (Thu, 02 Oct 2025) EllapsedTime: 3.5 seconds RetCode: 0 Status: OK PackageFile: breastCancerMAINZ_1.47.0.tar.gz PackageFileSize: 34.8 MiB