Package: aracne.networks Version: 1.36.0 Command: /home/biocbuild/bbs-3.22-bioc/R/bin/R CMD INSTALL aracne.networks StartedAt: 2025-11-20 10:58:12 -0500 (Thu, 20 Nov 2025) EndedAt: 2025-11-20 10:58:50 -0500 (Thu, 20 Nov 2025) EllapsedTime: 38.2 seconds RetCode: 0 Status: OK